BEGIN:VCALENDAR
VERSION:2.0
PRODID:-//Vanguardistas LLC//NONSGML Metro Publisher//EN
BEGIN:VEVENT
SUMMARY:ASSP Professional Development Conference & Exposition Safety
DTSTART:20260615T050000Z
DTEND:20260617T050000Z
UID:5229d318-0780-11f1-82c0-1248ae80e59d_20260615T000000
DESCRIPTION:Attend the ASSP Safety Conference & Expo\, June 15–17\, 2026
  at the Anaheim Convention Center in Anaheim\, CA. Occupational safety pro
 fessionals gather for education\, innovation\, and networking.
LOCATION:Anaheim Convention Center
URL:https://www.bicmagazine.com/events/june-2026-assp-professional-develop
 ment-conference-exposition-safety/
END:VEVENT
END:VCALENDAR
